BEGIN:VCALENDAR
VERSION:2.0
PRODID:https://www.kulturinengelburg.ch
METHOD:PUBLISH
BEGIN:VEVENT
LOCATION:<span>Alte Turnhalle Engelburg,</span> <span>Schwendistrasse 2,</span> <span>9032&nbsp;Engelburg</span>
SUMMARY:Tante Friedl
DESCRIPTION:Ein verrückt fantastisches Folk- und Weltmusik-Duo
CLASS:PUBLIC
DTSTART:20261023T200000
DTEND:20261023T220000
END:VEVENT
END:VCALENDAR