BEGIN:VCALENDAR
VERSION:2.0
PRODID:https://www.kulturinengelburg.ch
METHOD:PUBLISH
BEGIN:VEVENT
LOCATION:<span>Alte Turnhalle Engelburg,</span> <span>Schwendistrasse 2,</span> <span>9032&nbsp;Engelburg</span>
SUMMARY:Gion Stump &amp; The Lighthouse Project
DESCRIPTION:Rockmusik, die begeistert
CLASS:PUBLIC
DTSTART:20261107T200000
DTEND:20261107T220000
END:VEVENT
END:VCALENDAR